BEGIN:VCALENDAR
VERSION:2.0
PRODID:-//Jenny Carey - An Award-Winning Author - ECPv6.15.15//NONSGML v1.0//EN
CALSCALE:GREGORIAN
METHOD:PUBLISH
X-WR-CALNAME:Jenny Carey - An Award-Winning Author
X-ORIGINAL-URL:https://jennycarey.co.uk
X-WR-CALDESC:Events for Jenny Carey - An Award-Winning Author
REFRESH-INTERVAL;VALUE=DURATION:PT1H
X-Robots-Tag:noindex
X-PUBLISHED-TTL:PT1H
BEGIN:VTIMEZONE
TZID:UTC
BEGIN:STANDARD
TZOFFSETFROM:+0000
TZOFFSETTO:+0000
TZNAME:UTC
DTSTART:20250101T000000
END:STANDARD
END:VTIMEZONE
BEGIN:VEVENT
DTSTART;TZID=UTC:20260425T073000
DTEND;TZID=UTC:20260425T150000
DTSTAMP:20260424T094538
CREATED:20260328T174712Z
LAST-MODIFIED:20260328T174712Z
UID:1310-1777102200-1777129200@jennycarey.co.uk
SUMMARY:Melton Mowbray market
DESCRIPTION:Melton Mowbray market
URL:https://jennycarey.co.uk/event/melton-mowbray-market-139/
END:VEVENT
END:VCALENDAR